BEGIN:VCALENDAR
PRODID:-//kirchenweb.ch gmbh//veranstaltungsausgabe v2.0//DE
VERSION:2.0
METHOD:PUBLISH
BEGIN:VEVENT
DTSTART:20261014T170000Z
DTEND:20261014T190000Z
LOCATION:Kirchgemeindesaal\, Kirchstrasse 14\, 3273 Kappelen
TRANSP:OPAQUE
SEQUENCE:0
UID:91343-veranstaltung@kirchenregion-aarberg.ch
DTSTAMP:20260413T145333Z
DESCRIPTION:Kontakt: Marlene Wüthrich\n\nWeitere Infos:
  https://www.kirchenregion-aarberg.ch/veranstaltung/91343
SUMMARY:Besuchergruppentreffen
PRIORITY:5
X-MICROSOFT-CDO-IMPORTANCE:1
CLASS:PUBLIC
END:VEVENT
END:VCALENDAR
