BEGIN:VCALENDAR
PRODID:-//kirchenweb.ch gmbh//veranstaltungsausgabe v2.0//DE
VERSION:2.0
METHOD:PUBLISH
BEGIN:VEVENT
DTSTART:20260826T160000Z
DTEND:20260826T190000Z
LOCATION:Draussen auf der Pfarrmatte oder bei Regen drinnen im
  Kirchgemeindesaal\, \,
TRANSP:OPAQUE
SEQUENCE:0
UID:91313-veranstaltung@kirchenregion-aarberg.ch
DTSTAMP:20260416T125406Z
DESCRIPTION:Kontakt: Pfr. Tillmann Luther\n\nWeitere Infos:
  https://www.kirchenregion-aarberg.ch/veranstaltung/91313
SUMMARY:Feierabendhöck
PRIORITY:5
X-MICROSOFT-CDO-IMPORTANCE:1
CLASS:PUBLIC
END:VEVENT
END:VCALENDAR
