BEGIN:VCALENDAR
PRODID:-//kirchenweb.ch gmbh//veranstaltungsausgabe v2.0//DE
VERSION:2.0
METHOD:PUBLISH
BEGIN:VEVENT
DTSTART:20260904T123000Z
DTEND:20260904T143000Z
LOCATION:Altersheim BPV Dorfstrasse 27b\, Kappelen\, Dorfstrasse 27b\,
  3273 Kappelen
TRANSP:OPAQUE
SEQUENCE:0
UID:91311-veranstaltung@kirchenregion-aarberg.ch
DTSTAMP:20260408T085746Z
DESCRIPTION:Kontakt: Pfr. Tillmann Luther\n\n\nWeitere Infos:
  https://www.kirchenregion-aarberg.ch/veranstaltung/91311
SUMMARY:Krabbel-Grüppli & Elterntreff
PRIORITY:5
X-MICROSOFT-CDO-IMPORTANCE:1
CLASS:PUBLIC
END:VEVENT
END:VCALENDAR
