BEGIN:VCALENDAR
PRODID:-//kirchenweb.ch gmbh//veranstaltungsausgabe v2.0//DE
VERSION:2.0
METHOD:PUBLISH
BEGIN:VEVENT
DTSTART:20261225T083000Z
DTEND:20261225T093000Z
LOCATION:Kirche\, Kirchstrasse 14\, 3273 Kappelen
TRANSP:OPAQUE
SEQUENCE:0
UID:86048-veranstaltung@kirchenregion-aarberg.ch
DTSTAMP:20260401T075826Z
DESCRIPTION:Kontakt: Pfrn. Silvia Geywitz\n\nWeitere Infos:
  https://www.kirchenregion-aarberg.ch/veranstaltung/86048
SUMMARY:Gottesdienst zu Weihnachten
PRIORITY:5
X-MICROSOFT-CDO-IMPORTANCE:1
CLASS:PUBLIC
END:VEVENT
END:VCALENDAR
