BEGIN:VCALENDAR
PRODID:-//kirchenweb.ch gmbh//veranstaltungsausgabe v2.0//DE
VERSION:2.0
METHOD:PUBLISH
BEGIN:VEVENT
DTSTART:20261213T160000Z
DTEND:20261213T170000Z
LOCATION:Kirche\, Kirchstrasse 14\, 3273 Kappelen
TRANSP:OPAQUE
SEQUENCE:0
UID:86046-veranstaltung@kirchenregion-aarberg.ch
DTSTAMP:20260123T135740Z
DESCRIPTION:Kontakt: Jolanda Baumgartner\n\nWeitere Infos:
  https://www.kirchenregion-aarberg.ch/veranstaltung/86046
SUMMARY:Kinderweihnacht
PRIORITY:5
X-MICROSOFT-CDO-IMPORTANCE:1
CLASS:PUBLIC
END:VEVENT
END:VCALENDAR
