BEGIN:VCALENDAR
PRODID:-//kirchenweb.ch gmbh//veranstaltungsausgabe v2.0//DE
VERSION:2.0
METHOD:PUBLISH
BEGIN:VEVENT
DTSTART:20260920T073000Z
DTEND:20260920T083000Z
LOCATION:Kirche\, Kirchstrasse 14\, 3273 Kappelen
TRANSP:OPAQUE
SEQUENCE:0
UID:86038-veranstaltung@kirchenregion-aarberg.ch
DTSTAMP:20260401T074948Z
DESCRIPTION:Kontakt: Pfrn. Silvia Geywitz\n\nWeitere Infos:
  https://www.kirchenregion-aarberg.ch/veranstaltung/86038
SUMMARY:Gottesdienst zum Dank-\, Buss- und Bettag
PRIORITY:5
X-MICROSOFT-CDO-IMPORTANCE:1
CLASS:PUBLIC
END:VEVENT
END:VCALENDAR
