BEGIN:VCALENDAR
PRODID:-//kirchenweb.ch gmbh//veranstaltungsausgabe v2.0//DE
VERSION:2.0
METHOD:PUBLISH
BEGIN:VEVENT
DTSTART:20260607T150000Z
DTEND:20260607T160000Z
LOCATION:Kirche\, Kirchstrasse 14\, 3273 Kappelen
TRANSP:OPAQUE
SEQUENCE:0
UID:86031-veranstaltung@kirchenregion-aarberg.ch
DTSTAMP:20260123T134957Z
DESCRIPTION:Kontakt: Pfrn. Magdalena Daum\n\nWeitere Infos:
  https://www.kirchenregion-aarberg.ch/veranstaltung/86031
SUMMARY:Gottesdienst zum Flüchtlingssonntag (Abend)
PRIORITY:5
X-MICROSOFT-CDO-IMPORTANCE:1
CLASS:PUBLIC
END:VEVENT
END:VCALENDAR
