BEGIN:VCALENDAR
PRODID:-//kirchenweb.ch gmbh//veranstaltungsausgabe v2.0//DE
VERSION:2.0
METHOD:PUBLISH
BEGIN:VEVENT
DTSTART:20261203T133000Z
DTEND:20261203T153000Z
LOCATION:Kirchgemeindesaal\, Kirchstrasse 14\, 3273 Kappelen
TRANSP:OPAQUE
SEQUENCE:0
UID:85323-veranstaltung@kirchenregion-aarberg.ch
DTSTAMP:20250807T145333Z
DESCRIPTION:Kontakt: Ruth Stettler\n\nWeitere Infos:
  https://www.kirchenregion-aarberg.ch/veranstaltung/85323
SUMMARY:Seniorennachmittag
PRIORITY:5
X-MICROSOFT-CDO-IMPORTANCE:1
CLASS:PUBLIC
END:VEVENT
END:VCALENDAR
