BEGIN:VCALENDAR
PRODID:-//kirchenweb.ch gmbh//veranstaltungsausgabe v2.0//DE
VERSION:2.0
METHOD:PUBLISH
BEGIN:VEVENT
DTSTART:20260514T073000Z
DTEND:20260514T093000Z
LOCATION:Mehrzweckhalle\, Schulweg 1\, 3273 Kappelen
TRANSP:OPAQUE
SEQUENCE:0
UID:84864-veranstaltung@kirchenregion-aarberg.ch
DTSTAMP:20260401T074427Z
DESCRIPTION:Kontakt: Pfrn. Magdalena Daum\n\nWeitere Infos:
  https://www.kirchenregion-aarberg.ch/veranstaltung/84864
SUMMARY:Konfirmation
PRIORITY:5
X-MICROSOFT-CDO-IMPORTANCE:1
CLASS:PUBLIC
END:VEVENT
END:VCALENDAR
