BEGIN:VCALENDAR
PRODID:-//kirchenweb.ch gmbh//veranstaltungsausgabe v2.0//DE
VERSION:2.0
METHOD:PUBLISH
BEGIN:VEVENT
DTSTART:20260430T150000Z
DTEND:20260430T164500Z
LOCATION:Kirchgemeindesaal\, Kirchstrasse 14\, 3273 Kappelen
TRANSP:OPAQUE
SEQUENCE:0
UID:84861-veranstaltung@kirchenregion-aarberg.ch
DTSTAMP:20250709T062211Z
DESCRIPTION:Kontakt: Pfrn. Magdalena Daum\n\nWeitere Infos:
  https://www.kirchenregion-aarberg.ch/veranstaltung/84861
SUMMARY:KUW 9. Klasse
PRIORITY:5
X-MICROSOFT-CDO-IMPORTANCE:1
CLASS:PUBLIC
END:VEVENT
END:VCALENDAR
