BEGIN:VCALENDAR
PRODID:-//kirchenweb.ch gmbh//veranstaltungsausgabe v2.0//DE
VERSION:2.0
METHOD:PUBLISH
BEGIN:VEVENT
DTSTART:20260506T113000Z
DTEND:20260506T140500Z
LOCATION:Kirchgemeindesaal\, Kirchstrasse 14\, 3273 Kappelen
TRANSP:OPAQUE
SEQUENCE:0
UID:84379-veranstaltung@kirchenregion-aarberg.ch
DTSTAMP:20250619T075217Z
DESCRIPTION:Kontakt: Katechetin: Barbara Friedli\n\nWeitere Infos:
  https://www.kirchenregion-aarberg.ch/veranstaltung/84379
SUMMARY:KUW 3. Klasse
PRIORITY:5
X-MICROSOFT-CDO-IMPORTANCE:1
CLASS:PUBLIC
END:VEVENT
END:VCALENDAR
