BEGIN:VCALENDAR
PRODID:-//kirchenweb.ch gmbh//veranstaltungsausgabe v2.0//DE
VERSION:2.0
METHOD:PUBLISH
BEGIN:VEVENT
DTSTART:20260531T170000Z
DTEND:20260531T180000Z
LOCATION:Kirche\, Kirchstrasse 14\, 3273 Kappelen
TRANSP:OPAQUE
SEQUENCE:0
UID:84215-veranstaltung@kirchenregion-aarberg.ch
DTSTAMP:20260123T134926Z
DESCRIPTION:Kontakt: X\n\nWeitere Infos:
  https://www.kirchenregion-aarberg.ch/veranstaltung/84215
SUMMARY:Konzert in der Kirche
PRIORITY:5
X-MICROSOFT-CDO-IMPORTANCE:1
CLASS:PUBLIC
END:VEVENT
END:VCALENDAR
