BEGIN:VCALENDAR
PRODID:-//kirchenweb.ch gmbh//veranstaltungsausgabe v2.0//DE
VERSION:2.0
METHOD:PUBLISH
BEGIN:VEVENT
DTSTART:20250831T073000Z
DTEND:20250831T083000Z
LOCATION:Kirche\, Kirchstrasse 14\, 3273 Kappelen
TRANSP:OPAQUE
SEQUENCE:0
UID:78194-veranstaltung@kirchenregion-aarberg.ch
DTSTAMP:20250612T091613Z
DESCRIPTION:Kontakt: Pfrn. Magdalena Daum\n\nWeitere Infos:
  https://www.kirchenregion-aarberg.ch/veranstaltung/78194
SUMMARY:Gottesdienst Bibelsonntag und Amtseinsetzung Katechetinnen
PRIORITY:5
X-MICROSOFT-CDO-IMPORTANCE:1
CLASS:PUBLIC
END:VEVENT
END:VCALENDAR
