BEGIN:VCALENDAR
PRODID:-//kirchenweb.ch gmbh//veranstaltungsausgabe v2.0//DE
VERSION:2.0
METHOD:PUBLISH
BEGIN:VEVENT
DTSTART:22091103T090000Z
DTEND:22091103T100000Z
LOCATION:Kappelen\, \,
TRANSP:OPAQUE
SEQUENCE:0
UID:33662-veranstaltung@kirchenregion-aarberg.ch
DTSTAMP:20181130T153904Z
DESCRIPTION:Fahrdienst für Kappelen-Dorf und Werdthof\, Tel. 032 392 29
  60\n\nKontakt: team.kappelen@kirche-kappelen-werdt.ch\n\nWeitere Infos:
  https://www.kirchenregion-aarberg.ch/veranstaltung/33662
SUMMARY:Regional-Gottesdienst
PRIORITY:5
X-MICROSOFT-CDO-IMPORTANCE:1
CLASS:PUBLIC
END:VEVENT
END:VCALENDAR
